BEGIN:VCALENDAR
VERSION:2.0
PRODID:-//wp-events-plugin.com//7.2.3.1//EN
BEGIN:VEVENT
UID:190@tollebeek.nl
DTSTART:20180814T150000Z
DTEND:20180814T183000Z
DTSTAMP:20180723T103150Z
URL:https://tollebeek.nl/events/zomerbreek-samen-eten/
SUMMARY:Zomerbreek (Samen eten)
DESCRIPTION:
END:VEVENT
END:VCALENDAR