BEGIN:VCALENDAR
VERSION:2.0
PRODID:-//wp-events-plugin.com//7.2.3.1//EN
BEGIN:VEVENT
UID:551@tollebeek.nl
DTSTART:20250417T193000Z
DTEND:20250417T210000Z
DTSTAMP:20250315T140520Z
URL:https://tollebeek.nl/events/witte-donderdag/
SUMMARY:Witte donderdag
DESCRIPTION:
END:VEVENT
END:VCALENDAR