BEGIN:VCALENDAR
VERSION:2.0
PRODID:-//wp-events-plugin.com//7.2.3.1//EN
BEGIN:VEVENT
UID:102@tollebeek.nl
DTSTART:20170531T094500Z
DTEND:20170531T094500Z
DTSTAMP:20170421T093630Z
URL:https://tollebeek.nl/events/windmolens-kijken/
SUMMARY:Windmolens kijken
DESCRIPTION:
END:VEVENT
END:VCALENDAR