BEGIN:VCALENDAR
VERSION:2.0
PRODID:-//wp-events-plugin.com//7.2.3.1//EN
BEGIN:VEVENT
UID:393@tollebeek.nl
DTSTART:20220906T083000Z
DTEND:20220906T083000Z
DTSTAMP:20220622T163927Z
URL:https://tollebeek.nl/events/wie-gaat-er-mee-naar-garderen/
SUMMARY:Wie gaat er mee naar Garderen???
DESCRIPTION:
END:VEVENT
END:VCALENDAR