BEGIN:VCALENDAR
VERSION:2.0
PRODID:-//wp-events-plugin.com//7.2.3.1//EN
BEGIN:VEVENT
UID:504@tollebeek.nl
DTSTART:20240813T153000Z
DTEND:20240813T163000Z
DTSTAMP:20240729T122503Z
URL:https://tollebeek.nl/events/we-gaan-zomer-breken-samen-eten/
SUMMARY:We gaan Zomer breken (Samen eten)
DESCRIPTION:
END:VEVENT
END:VCALENDAR