BEGIN:VCALENDAR
VERSION:2.0
PRODID:-//wp-events-plugin.com//7.2.3.1//EN
BEGIN:VEVENT
UID:215@tollebeek.nl
DTSTART:20181228T140000Z
DTEND:20181228T230000Z
DTSTAMP:20181208T112101Z
URL:https://tollebeek.nl/events/voorronde-e-sports-10-dorpentoernooi/
SUMMARY:Voorronde E-Sports 10 Dorpentoernooi
DESCRIPTION:
END:VEVENT
END:VCALENDAR