BEGIN:VCALENDAR
VERSION:2.0
PRODID:-//wp-events-plugin.com//7.2.3.1//EN
BEGIN:VEVENT
UID:48@tollebeek.nl
DTSTART:20160822T191500Z
DTEND:20160822T201500Z
DTSTAMP:20160819T072952Z
URL:https://tollebeek.nl/events/vissen-sva/
SUMMARY:Vissen (SVA)
DESCRIPTION:
END:VEVENT
END:VCALENDAR