BEGIN:VCALENDAR
VERSION:2.0
PRODID:-//wp-events-plugin.com//7.2.3.1//EN
BEGIN:VEVENT
UID:335@tollebeek.nl
DTSTART:20210702T160000Z
DTEND:20210702T170000Z
DTSTAMP:20210624T192114Z
URL:https://tollebeek.nl/events/uitreiking-medaille-avond4daagse-tollebeek
 /
SUMMARY:Uitreiking medaille Avond4daagse Tollebeek
DESCRIPTION:
END:VEVENT
END:VCALENDAR