BEGIN:VCALENDAR
VERSION:2.0
PRODID:-//wp-events-plugin.com//7.2.3.1//EN
BEGIN:VEVENT
UID:569@tollebeek.nl
DTSTART:20250727T093000Z
DTEND:20250727T170000Z
DTSTAMP:20250616T161107Z
URL:https://tollebeek.nl/events/tollebeker-tour-tocht-3/
SUMMARY:Tollebeker Tour Tocht
DESCRIPTION:
END:VEVENT
END:VCALENDAR