BEGIN:VCALENDAR
VERSION:2.0
PRODID:-//wp-events-plugin.com//7.2.3.1//EN
BEGIN:VEVENT
UID:257@tollebeek.nl
DTSTART:20190922T093000Z
DTEND:20190922T093000Z
DTSTAMP:20190818T092843Z
URL:https://tollebeek.nl/events/tollebeker-toer-tocht-4/
SUMMARY:Tollebeker Toer Tocht
DESCRIPTION:
END:VEVENT
END:VCALENDAR