BEGIN:VCALENDAR
VERSION:2.0
PRODID:-//wp-events-plugin.com//7.2.3.1//EN
BEGIN:VEVENT
UID:600@tollebeek.nl
DTSTART:20260510T000000Z
DTEND:20260510T000000Z
DTSTAMP:20260419T095014Z
URL:https://tollebeek.nl/events/steptocht-3/
SUMMARY:Steptocht
DESCRIPTION:\nLeuk nieuws\, dit jaar zal de steptocht beginnen en eindigen 
 in het mooiste dorp van de polder. Dat belooft dus een geweldige dag te wo
 rden!\n\n\n#steptocht #tollebeek #j19nu\n\n\n
END:VEVENT
END:VCALENDAR