BEGIN:VCALENDAR
VERSION:2.0
PRODID:-//wp-events-plugin.com//7.2.3.1//EN
BEGIN:VEVENT
UID:90@tollebeek.nl
DTSTART:20170408T000000Z
DTEND:20170408T000000Z
DTSTAMP:20170406T175503Z
URL:https://tollebeek.nl/events/stamp-in-tennis/
SUMMARY:Stamp in (tennis)
DESCRIPTION:
END:VEVENT
END:VCALENDAR