BEGIN:VCALENDAR
VERSION:2.0
PRODID:-//wp-events-plugin.com//7.2.3.1//EN
BEGIN:VEVENT
UID:295@tollebeek.nl
DTSTART:20200321T130000Z
DTEND:20200321T163000Z
DTSTAMP:20200313T082801Z
URL:https://tollebeek.nl/events/schaatsen-in-thialf-heerenveen/
SUMMARY:AFGELAST!:    Schaatsen in Thialf Heerenveen
DESCRIPTION:Hallo leden van ijsclub Tollebeek\, voor het eerst sinds mensen
  heugenis wordt er dit jaar niet geschaatst vanuit onze ijsclub. Koning wi
 nter was ons al niet echt gunstig gestemd en nu komt daar ook nog een viru
 s genaamdÂ #coronaÂ overheen......of te wel Thialf Heerenveen is per d
 irect gesloten.\nEn aangezien wij daar vanuit de vereniging op 21 maart wi
 lden gaan schaatsen is dat bij deze dus afgeblazen.....\nHelaas maar bij d
 eze dus einde seizoen 19-20.\n\nMet vriendelijke groet\nIjsclub Tollebeek.
END:VEVENT
END:VCALENDAR