BEGIN:VCALENDAR
VERSION:2.0
PRODID:-//wp-events-plugin.com//7.2.3.1//EN
BEGIN:VEVENT
UID:105@tollebeek.nl
DTSTART:20170613T100000Z
DTEND:20170613T133000Z
DTSTAMP:20170514T091110Z
URL:https://tollebeek.nl/events/samen-eten-9/
SUMMARY:Samen eten
DESCRIPTION:
END:VEVENT
END:VCALENDAR