BEGIN:VCALENDAR
VERSION:2.0
PRODID:-//wp-events-plugin.com//7.2.3.1//EN
BEGIN:VEVENT
UID:567@tollebeek.nl
DTSTART:20250618T200000Z
DTEND:20250618T234500Z
DTSTAMP:20250616T161024Z
URL:https://tollebeek.nl/events/reunie-oud-feestcommissieleden/
SUMMARY:Reunie (oud) feestcommissieleden
DESCRIPTION:20
END:VEVENT
END:VCALENDAR