BEGIN:VCALENDAR
VERSION:2.0
PRODID:-//wp-events-plugin.com//7.2.3.1//EN
BEGIN:VEVENT
UID:470@tollebeek.nl
DTSTART:20241030T000000Z
DTEND:20241030T000000Z
DTSTAMP:20240207T184256Z
URL:https://tollebeek.nl/events/poppendokter/
SUMMARY:Poppendokter (SVA)
DESCRIPTION:
END:VEVENT
END:VCALENDAR