BEGIN:VCALENDAR
VERSION:2.0
PRODID:-//wp-events-plugin.com//7.2.3.1//EN
BEGIN:VEVENT
UID:548@tollebeek.nl
DTSTART;VALUE=DATE:20251022
DTEND;VALUE=DATE:20251023
DTSTAMP:20250219T160714Z
URL:https://tollebeek.nl/events/poppendokter-sva-4/
SUMMARY:Poppendokter (SVA)
DESCRIPTION:meer info volgt
END:VEVENT
END:VCALENDAR