BEGIN:VCALENDAR
VERSION:2.0
PRODID:-//wp-events-plugin.com//7.2.3.1//EN
BEGIN:VEVENT
UID:478@tollebeek.nl
DTSTART:20240511T110000Z
DTEND:20240511T150000Z
DTSTAMP:20240330T142953Z
URL:https://tollebeek.nl/events/plantjesmarkt/
SUMMARY:Plantjesmarkt
DESCRIPTION:
END:VEVENT
END:VCALENDAR