BEGIN:VCALENDAR
VERSION:2.0
PRODID:-//wp-events-plugin.com//7.2.3.1//EN
BEGIN:VEVENT
UID:158@tollebeek.nl
DTSTART:20180405T160000Z
DTEND:20180405T180000Z
DTSTAMP:20180309T183112Z
URL:https://tollebeek.nl/events/ouderenmiddag-pkn/
SUMMARY:Ouderenmiddag PKN
DESCRIPTION:
END:VEVENT
END:VCALENDAR