BEGIN:VCALENDAR
VERSION:2.0
PRODID:-//wp-events-plugin.com//7.2.3.1//EN
BEGIN:VEVENT
UID:5@tollebeek.nl
DTSTART:20160311T171500Z
DTEND:20160311T181500Z
DTSTAMP:20160229T160028Z
URL:https://tollebeek.nl/events/open-lessen-diana/
SUMMARY:Open lessen "Diana"
DESCRIPTION:
END:VEVENT
END:VCALENDAR