BEGIN:VCALENDAR
VERSION:2.0
PRODID:-//wp-events-plugin.com//7.2.3.1//EN
BEGIN:VEVENT
UID:356@tollebeek.nl
DTSTART:20220319T090000Z
DTEND:20220319T113000Z
DTSTAMP:20220309T173946Z
URL:https://tollebeek.nl/events/open-dag-op-de-basisscholen-in-tollebeek/
SUMMARY:Open dag op de basisscholen in Tollebeek
DESCRIPTION:
END:VEVENT
END:VCALENDAR