BEGIN:VCALENDAR
VERSION:2.0
PRODID:-//wp-events-plugin.com//7.2.3.1//EN
BEGIN:VEVENT
UID:7@tollebeek.nl
DTSTART:20160316T090000Z
DTEND:20160316T113000Z
DTSTAMP:20160229T160305Z
URL:https://tollebeek.nl/events/open-dag-basisscholen/
SUMMARY:Open dag  basisscholen
DESCRIPTION:
END:VEVENT
END:VCALENDAR