BEGIN:VCALENDAR
VERSION:2.0
PRODID:-//wp-events-plugin.com//7.2.3.1//EN
BEGIN:VEVENT
UID:74@tollebeek.nl
DTSTART:20161231T100000Z
DTEND:20161231T150000Z
DTSTAMP:20161211T142042Z
URL:https://tollebeek.nl/events/oliebollenactie/
SUMMARY:Oliebollenactie
DESCRIPTION:
END:VEVENT
END:VCALENDAR