BEGIN:VCALENDAR
VERSION:2.0
PRODID:-//wp-events-plugin.com//7.2.3.1//EN
BEGIN:VEVENT
UID:455@tollebeek.nl
DTSTART:20230102T200000Z
DTEND:20230102T230000Z
DTSTAMP:20231214T180032Z
URL:https://tollebeek.nl/events/nieuwjaarsreceptie-7/
SUMMARY:Nieuwjaarsreceptie
DESCRIPTION:
END:VEVENT
END:VCALENDAR