BEGIN:VCALENDAR
VERSION:2.0
PRODID:-//wp-events-plugin.com//7.2.3.1//EN
BEGIN:VEVENT
UID:4@tollebeek.nl
DTSTART:20160318T153000Z
DTEND:20160318T170000Z
DTSTAMP:20160317T182125Z
URL:https://tollebeek.nl/events/kids-in-tennis/
SUMMARY:Kids-in tennis
DESCRIPTION:
END:VEVENT
END:VCALENDAR