BEGIN:VCALENDAR
VERSION:2.0
PRODID:-//wp-events-plugin.com//7.2.3.1//EN
BEGIN:VEVENT
UID:89@tollebeek.nl
DTSTART:20170329T140000Z
DTEND:20170329T160000Z
DTSTAMP:20170310T101109Z
URL:https://tollebeek.nl/events/kids-in-tennis-2/
SUMMARY:Kids In (tennis)
DESCRIPTION:
END:VEVENT
END:VCALENDAR