BEGIN:VCALENDAR
VERSION:2.0
PRODID:-//wp-events-plugin.com//7.2.3.1//EN
BEGIN:VEVENT
UID:84@tollebeek.nl
DTSTART:20171223T183000Z
DTEND:20171223T210000Z
DTSTAMP:20171222T155726Z
URL:https://tollebeek.nl/events/kerstreis/
SUMMARY:Kerstreis
DESCRIPTION:&nbsp\;\n\nZaterdag 23 december is de kerstreis.\n\nOm de route
  aan te geven worden er 3000 potjes neergezet.\n\nZiet u lichtjes voor u h
 uis staan\, wilt u deze dan aansteken.\n\nDit mag vanaf 18.00 uur!\n\n#bed
 ankt voor u hulp #kerstreis 2017 #vele handen maken licht\n\n#sfeervol Tol
 lebeek\n\n\n\nOp zaterdag 23 december staat er een kerstreis gepland met a
 ls thema `samen op pad`.\nJozef en Maria\, diverse koren en bandjes\, de h
 erders in het veld\, de herbergiers\nen de engel zijn er klaar voor. Loopt
  u dit jaar ook mee?\n\nNog enkele huishoudelijke mededelingen:\n- Parkere
 n: dit kunt u doen op het plein bij de Goede Aanloop of bij de PKN kerk\, 
 eventueel in het dorp zelf\n(let op\; sommige stukken worden afgezet! Voss
 enburcht en de Dianalaan)\nWoont u in het dorp dan kunt het beste met de f
 iets of lopend komen!\n- Ook dit jaar plaatsen wij\, in de route\, een ker
 stboom. Hierin kunt u een mooie wens hangen!\nEen wens voor uzelf of voor 
 een ander!\n- Aan het einde van de route\, bij de buitenplaats\, staat een
  ton waar u uw gift in kan doen.\n\nMocht u twijfelen of de kerstreis door
 gaat\, houd dan de website van Tollebeek in de gaten.\n\n
END:VEVENT
END:VCALENDAR