BEGIN:VCALENDAR
VERSION:2.0
PRODID:-//wp-events-plugin.com//7.2.3.1//EN
BEGIN:VEVENT
UID:53@tollebeek.nl
DTSTART:20160917T110000Z
DTEND:20160917T120000Z
DTSTAMP:20160916T152306Z
URL:https://tollebeek.nl/events/inloop-voetbaltraining-kabouters/
SUMMARY:Inloop voetbaltraining Kabouters
DESCRIPTION:
END:VEVENT
END:VCALENDAR