BEGIN:VCALENDAR
VERSION:2.0
PRODID:-//wp-events-plugin.com//7.2.3.1//EN
BEGIN:VEVENT
UID:186@tollebeek.nl
DTSTART:20180829T130000Z
DTEND:20180829T153000Z
DTSTAMP:20180828T185842Z
URL:https://tollebeek.nl/events/hut-bouwen-sva/
SUMMARY:Hut bouwen (SVA)
DESCRIPTION:LET OP! IN VERBAND MET HET WEER STARTEN WE OM 10.30 UUR!!
END:VEVENT
END:VCALENDAR