BEGIN:VCALENDAR
VERSION:2.0
PRODID:-//wp-events-plugin.com//7.2.3.1//EN
BEGIN:VEVENT
UID:58@tollebeek.nl
DTSTART:20161104T163000Z
DTEND:20161104T172000Z
DTSTAMP:20161005T052812Z
URL:https://tollebeek.nl/events/gratis-twirllessen-van-diana/
SUMMARY:Gratis twirllessen van Diana
DESCRIPTION:
END:VEVENT
END:VCALENDAR