BEGIN:VCALENDAR
VERSION:2.0
PRODID:-//wp-events-plugin.com//7.2.3.1//EN
BEGIN:VEVENT
UID:343@tollebeek.nl
DTSTART:20210911T123000Z
DTEND:20210911T150000Z
DTSTAMP:20210901T153250Z
URL:https://tollebeek.nl/events/fish-potato-run-kidsrun-in-tollebeek/
SUMMARY:Fish Potato Run KIDSRUN in Tollebeek
DESCRIPTION:Fish Potato Run KIDSRUN in Tollebeek\nZaterdag 11 september om 
 13.00 uur\, inschrijven vanaf 12.30 uur\nMax. 50 deelnemers VOL=VOL\n
END:VEVENT
END:VCALENDAR