BEGIN:VCALENDAR
VERSION:2.0
PRODID:-//wp-events-plugin.com//7.2.3.1//EN
BEGIN:VEVENT
UID:546@tollebeek.nl
DTSTART:20250913T130000Z
DTEND:20250913T180000Z
DTSTAMP:20250219T160642Z
URL:https://tollebeek.nl/events/fish-potato-run-5/
SUMMARY:Fish Potato Run
DESCRIPTION:Meer info
END:VEVENT
END:VCALENDAR