BEGIN:VCALENDAR
VERSION:2.0
PRODID:-//wp-events-plugin.com//7.2.3.1//EN
BEGIN:VEVENT
UID:342@tollebeek.nl
DTSTART:20210911T130000Z
DTEND:20210911T163000Z
DTSTAMP:20210901T162800Z
URL:https://tollebeek.nl/events/fish-potato-run-3/
SUMMARY:Fish Potato Run
DESCRIPTION:Het evenement bestaat uit de volgende onderdelen\nVIVAN 8 Engel
 se mijl(12\,88km) Aanvang 13:00 uur op de haven van Urk\nWaterman Onions 4
  Engelse mijl(6\,44km) Aanvang 15:45 uur op de Urkerweg\, Tollebeek\nSTET-
 Potato Kidsrun (500 of 1000 meter) in Emmeloord Aanvang 13:00 uur bij de f
 inish Kampwal\, Emmeloord\nSTET-Potato Kidsrun (600 of 1200 meter) op Urk 
 Aanvang 12:00 uur bij de start op de haven van Urk\nSTET-Potato Kidsrun (5
 00 meter) in TollebeekÂ  Aanvang n.n.t.b. St.Hubertusplaats\, Tollebeek\
 n't Voorhuys 8 Engelse mijl Business Run (12\,88km) Aanvang 13:00 uur op d
 e haven van Urk\n't Voorhuys 4 Engelse mijl Business Run(6\,44km) Aanvang 
 15:45 uur op de Urkerweg\, Tollebeek
END:VEVENT
END:VCALENDAR