BEGIN:VCALENDAR
VERSION:2.0
PRODID:-//wp-events-plugin.com//7.2.3.1//EN
BEGIN:VEVENT
UID:601@tollebeek.nl
DTSTART:20260514T140000Z
DTEND:20260514T170000Z
DTSTAMP:20260422T152817Z
URL:https://tollebeek.nl/events/eiergooien-5/
SUMMARY:Eiergooien
DESCRIPTION:
END:VEVENT
END:VCALENDAR