BEGIN:VCALENDAR
VERSION:2.0
PRODID:-//wp-events-plugin.com//7.2.3.1//EN
BEGIN:VEVENT
UID:378@tollebeek.nl
DTSTART:20220526T140000Z
DTEND:20220526T180000Z
DTSTAMP:20220520T141035Z
URL:https://tollebeek.nl/events/eiergooien-2/
SUMMARY:Eiergooien
DESCRIPTION:\n
END:VEVENT
END:VCALENDAR