BEGIN:VCALENDAR
VERSION:2.0
PRODID:-//wp-events-plugin.com//7.2.3.1//EN
BEGIN:VEVENT
UID:208@tollebeek.nl
DTSTART:20181117T103000Z
DTEND:20181117T120000Z
DTSTAMP:20181113T220005Z
URL:https://tollebeek.nl/events/dorpsplaatjes-ruilen/
SUMMARY:Dorpsplaatjes ruilen
DESCRIPTION:Zoek jij ook nog maar een paar dorpsplaatjes?\n\nAs zaterdag 17
  november kan je komen om te ruilen van 10.30 tm 12.00 in de kantine van d
 e pionier.\nTip: schrijf je dubbele en de nummers die je nog moet op een b
 riefje\, zodat je makkelijk kan ruilen.\n#vvtollebeek @tollebeeknieuws\n\n
END:VEVENT
END:VCALENDAR