BEGIN:VCALENDAR
VERSION:2.0
PRODID:-//wp-events-plugin.com//7.2.3.1//EN
BEGIN:VEVENT
UID:578@tollebeek.nl
DTSTART:20260617T000000Z
DTEND:20260620T000000Z
DTSTAMP:20251106T184101Z
URL:https://tollebeek.nl/events/dorpsfeest-2026/
SUMMARY:Dorpsfeest 2026
DESCRIPTION:later meer info
END:VEVENT
END:VCALENDAR