BEGIN:VCALENDAR
VERSION:2.0
PRODID:-//wp-events-plugin.com//7.2.3.1//EN
BEGIN:VEVENT
UID:392@tollebeek.nl
DTSTART:20220617T140000Z
DTEND:20220617T163000Z
DTSTAMP:20220609T125225Z
URL:https://tollebeek.nl/events/de-jeugd-van-toen/
SUMMARY:Dorpsfeest: De jeugd van toen
DESCRIPTION:
END:VEVENT
END:VCALENDAR