BEGIN:VCALENDAR
VERSION:2.0
PRODID:-//wp-events-plugin.com//7.2.3.1//EN
BEGIN:VEVENT
UID:52@tollebeek.nl
DTSTART;VALUE=DATE:20160924
DTEND;VALUE=DATE:20160925
DTSTAMP:20160916T152125Z
URL:https://tollebeek.nl/events/burendag-2016/
SUMMARY:Burendag 2016
DESCRIPTION:
END:VEVENT
END:VCALENDAR