BEGIN:VCALENDAR
VERSION:2.0
PRODID:-//wp-events-plugin.com//7.2.3.1//EN
BEGIN:VEVENT
UID:196@tollebeek.nl
DTSTART:20181024T133000Z
DTEND:20181024T160000Z
DTSTAMP:20181017T174721Z
URL:https://tollebeek.nl/events/bingo-basisschooljeugd/
SUMMARY:Bingo (basisschooljeugd)
DESCRIPTION:
END:VEVENT
END:VCALENDAR