BEGIN:VCALENDAR
VERSION:2.0
PRODID:-//wp-events-plugin.com//7.2.3.1//EN
BEGIN:VEVENT
UID:251@tollebeek.nl
DTSTART:20190608T100000Z
DTEND:20190610T170000Z
DTSTAMP:20190517T100215Z
URL:https://tollebeek.nl/events/bij-zondere-tuinen-op-de-bodem-van-de-zuid
 erzee/
SUMMARY:BIJ-zondere tuinen op de bodem van de Zuiderzee
DESCRIPTION:\n\nIn het pinksterweekend vinden de open tuin dagen plaats in 
 de â€œ BIJ-zondere tuinen op de bodem van de Zuiderzee" . Op 8\, 9 en 
 10 juni zijn de tuinen tussen 10.00 en 17.00 uur te bezoeken. Kom gezellig
  genieten in de vier tuinen\, elk met een geheel eigen karakter.\n\nDe te 
 bezoeken tuinen zijn:\n\nDe Achtertuin van Lammechien en Bennie Hack\, Zui
 dwesterringweg 26b\, Tollebeek\n\nEllenâ€™s tuin van Ellen Nelis\, He
 t Waterland 56\, Emmeloord\n\nLancaster garden van Ank en Harri Nienhuis\,
  Lindeweg 6\, Emmeloord\n\nAppelhof van Toescke Dirkzwager\, Blokzijlerdwa
 rsweg 2\, MarknesseÂ  (10 juni gesloten)\n\n&nbsp\;\n\nVOEL JE WELKOM !
END:VEVENT
END:VCALENDAR