BEGIN:VCALENDAR
VERSION:2.0
PRODID:-//wp-events-plugin.com//7.2.3.1//EN
BEGIN:VEVENT
UID:237@tollebeek.nl
DTSTART:20190320T090000Z
DTEND:20190320T113000Z
DTSTAMP:20190306T180605Z
URL:https://tollebeek.nl/events/aanmelden-nieuwe-leerlingen-schooljaar-201
 9-2020/
SUMMARY:Aanmelden nieuwe leerlingen schooljaar 2019-2020
DESCRIPTION:
END:VEVENT
END:VCALENDAR