BEGIN:VCALENDAR
VERSION:2.0
PRODID:-//wp-events-plugin.com//7.2.3.1//EN
BEGIN:VEVENT
UID:363@tollebeek.nl
DTSTART:20220501T000000Z
DTEND:20220501T000000Z
DTSTAMP:20220425T165302Z
URL:https://tollebeek.nl/events/5314/
SUMMARY:Elf dorpen steptocht 2022
DESCRIPTION:\n\n[caption id="attachment_5334" align="aligncenter" width="16
 00"] route bij aankomst[/caption]\n\n[caption id="attachment_5335" align="
 aligncenter" width="1600"] Route na de start[/caption]\n\n&nbsp\;\n\nMeer 
 info op: https://www.facebook.com/steptochtnoordoostpolder/
END:VEVENT
END:VCALENDAR